BEGIN:VCALENDAR
VERSION:2.0
PRODID:-//swoogo.com//NONSGML kigkonsult.se iCalcreator 2.41.90//
CALSCALE:GREGORIAN
UID:64346261-3964-4630-b634-356330346535
BEGIN:VEVENT
UID:f244e81cf7705d9f80553cdc4bf1292eea3f340d@swoogo.com
DTSTAMP:20260420T105255Z
DESCRIPTION:Newsweek is honored to invite you to _Pillars of the Green Tran
 sition Conference_ on September 25th at our headquarters in One World Trad
 e Center\, New York\, as part of Climate Week 2024.\n\nFor the first time 
 since the Paris Agreement in 2015 the international community took stock o
 f the progress made to limit global warming to 1.5°C. The conclusion: prog
 ress has been slow across all areas of climate action. Governments and bus
 inesses must act quickly to make their pledges a reality.\n\nDuring this y
 ear's Climate Week\, Newsweek will take an in-depth look at pragmatic ways
  in which key economic sectors — energy\, transportation\, and industry — 
 are investing and innovating to decrease emissions and achieve net zero.
DTSTART:20240925T180000Z
DTEND:20240925T210000Z
LAST-MODIFIED:20260420T105255Z
LOCATION:Newsweek HQ\, One World Trade Center\, 72nd Floor\, New York\, NY 
 10007\, United States
SEQUENCE:0
STATUS:CONFIRMED
SUMMARY:Pillars of the Green Transition
TRANSP:OPAQUE
X-ALT-DESC;FMTTYPE=text/html:<p>Newsweek is honored to invite you to <em>Pi
 llars of the Green Transition Conference</em> on September 25th at our hea
 dquarters in One World Trade Center\, New York\, as part of Climate Week 2
 024.</p>\n\n<p>For the first time since the Paris Agreement in 2015 the in
 ternational community took stock of the progress made to limit global warm
 ing to 1.5°C. The conclusion: progress has been slow across all areas of c
 limate action. Governments and businesses must act quickly to make their p
 ledges a reality.</p>\n\n<p>During this year's Climate Week\, Newsweek wil
 l take an in-depth look at pragmatic ways in which key economic sectors — 
 energy\, transportation\, and industry — are investing and innovating to d
 ecrease emissions and achieve net zero.</p>
BEGIN:VALARM
UID:65353861-6664-4436-b465-396432376139
ACTION:DISPLAY
DESCRIPTION:Newsweek is honored to invite you to _Pillars of the Green Tran
 sition Conference_ on September 25th at our headquarters in One World Trad
 e Center\, New York\, as part of Climate Week 2024.\n\nFor the first time 
 since the Paris Agreement in 2015 the international community took stock o
 f the progress made to limit global warming to 1.5°C. The conclusion: prog
 ress has been slow across all areas of climate action. Governments and bus
 inesses must act quickly to make their pledges a reality.\n\nDuring this y
 ear's Climate Week\, Newsweek will take an in-depth look at pragmatic ways
  in which key economic sectors — energy\, transportation\, and industry — 
 are investing and innovating to decrease emissions and achieve net zero.
TRIGGER:-PT15M
END:VALARM
END:VEVENT
END:VCALENDAR
